BEGIN:VCALENDAR
VERSION:2.0
CALSCALE:GREGORIAN
PRODID:-//Diputació de Barcelona//DibaCMS//EN
BEGIN:VEVENT
UID:56007
DTSTAMP:20260422T010106
DTSTART:20220225T180000
DTEND:20220225T180000
SUMMARY:Taller per a adults a la Biblioteca "Iniciació al patronatge: Faldilla"
LOCATION:
METHOD:PUBLISH
X-WR-CALNAME:info@llinarsdelvalles.cat
X-WR-TIMEZONE:Europe/Madrid
DESCRIPTION:A càrrec de l'acadèmia de patronatge i confecció "Lola Suárez"

URI:https://www.llinarsdelvalles.cat/actualitat/agenda/taller-per-a-adults-a-la-biblioteca-iniciacio-al-patronatge-faldilla.html
CLASS:PUBLIC
END:VEVENT
END:VCALENDAR
