BEGIN:VCALENDAR
VERSION:2.0
CALSCALE:GREGORIAN
PRODID:-//Diputació de Barcelona//DibaCMS//EN
BEGIN:VEVENT
UID:56016
DTSTAMP:20260421T221159
DTSTART:20220325T173000
DTEND:20220325T173000
SUMMARY:Taller infantil a la Biblioteca "Muntanyes russes per a bales"
LOCATION:Av. Pau Casals, 26 08450 Llinars del Vallès
METHOD:PUBLISH
X-WR-CALNAME:info@llinarsdelvalles.cat
X-WR-TIMEZONE:Europe/Madrid
DESCRIPTION:A càrrec d'Escuelab.

URI:https://www.llinarsdelvalles.cat/actualitat/agenda/taller-infantil-a-la-biblioteca-muntanyes-russes-per-a-bales.html
CLASS:PUBLIC
END:VEVENT
END:VCALENDAR
