BEGIN:VCALENDAR
VERSION:2.0
CALSCALE:GREGORIAN
PRODID:-//Diputació de Barcelona//DibaCMS//EN
BEGIN:VEVENT
UID:56019
DTSTAMP:20260421T221920
DTSTART:20220301T150000
DTEND:20220331T200000
SUMMARY:Exposició a la Biblioteca "Pintant la foscor"
LOCATION:Av. Pau Casals, 26 08450 Llinars del Vallès
METHOD:PUBLISH
X-WR-CALNAME:info@llinarsdelvalles.cat
X-WR-TIMEZONE:Europe/Madrid
DESCRIPTION:Fotografies a càrrec del grup Churrasqueros: Esther Aguilera, Juanjo Carrasco, Igor Rodríguez i Albert Travé

URI:https://www.llinarsdelvalles.cat/actualitat/agenda/exposicio-a-la-biblioteca-pintant-la-foscor.html
CLASS:PUBLIC
END:VEVENT
END:VCALENDAR
