BEGIN:VCALENDAR
VERSION:2.0
CALSCALE:GREGORIAN
PRODID:-//Diputació de Barcelona//DibaCMS//EN
BEGIN:VEVENT
UID:56020
DTSTAMP:20260421T233100
DTSTART:20220304T173000
DTEND:20220304T173000
SUMMARY:Hora del conte a la Biblioteca "Dones"
LOCATION:Av. Pau Casals, 26 08450 Llinars del Vallès
METHOD:PUBLISH
X-WR-CALNAME:info@llinarsdelvalles.cat
X-WR-TIMEZONE:Europe/Madrid
DESCRIPTION:A càrrec de Gisela Llimona.
Activitat emmarcada en la Setmana de la Dona 2022.
Contes on el paper del sexe femení és diferent als cànons clàssics.

URI:https://www.llinarsdelvalles.cat/actualitat/agenda/hora-del-conte-a-la-biblioteca-dones.html
CLASS:PUBLIC
END:VEVENT
END:VCALENDAR
