BEGIN:VCALENDAR
VERSION:2.0
CALSCALE:GREGORIAN
PRODID:-//Diputació de Barcelona//DibaCMS//EN
BEGIN:VEVENT
UID:56046
DTSTAMP:20260422T020243
DTSTART:20220424T120000
DTEND:20220424T120000
SUMMARY:Música i Imatge a càrrec de Trio Héxié
LOCATION:08450 Llinars del Vallès
METHOD:PUBLISH
X-WR-CALNAME:info@llinarsdelvalles.cat
X-WR-TIMEZONE:Europe/Madrid
DESCRIPTION:Dintre del 24è cicle de concerts a Sanata.

URI:https://www.llinarsdelvalles.cat/actualitat/agenda/musica-i-imatge-a-carrec-de-trio-hexie.html
CLASS:PUBLIC
END:VEVENT
END:VCALENDAR
