BEGIN:VCALENDAR
VERSION:2.0
CALSCALE:GREGORIAN
PRODID:-//Diputació de Barcelona//DibaCMS//EN
BEGIN:VEVENT
UID:56055
DTSTAMP:20260421T221632
DTSTART:20220402T170000
DTEND:20220410T170000
SUMMARY:Veniu a mi. La Passió de Llinars del Vallès
LOCATION:Ronda Sant Antoni, 19 08450 Llinars del Vallès
METHOD:PUBLISH
X-WR-CALNAME:info@llinarsdelvalles.cat
X-WR-TIMEZONE:Europe/Madrid
DESCRIPTION:Al Teatre Auditori.
2, 3, 9 i 10 d'abril a les 17 h.

URI:https://www.llinarsdelvalles.cat/actualitat/agenda/56055-veniu-a-mi-la-passio-de-llinars-del-valles.html
CLASS:PUBLIC
END:VEVENT
END:VCALENDAR
