BEGIN:VCALENDAR
VERSION:2.0
CALSCALE:GREGORIAN
PRODID:-//Diputació de Barcelona//DibaCMS//EN
BEGIN:VEVENT
UID:56064
DTSTAMP:20260421T205655
DTSTART:20220408T170000
DTEND:20220408T170000
SUMMARY:Torneig de futbolí classificatori per al Torneig Multi espais joves
LOCATION:
METHOD:PUBLISH
X-WR-CALNAME:info@llinarsdelvalles.cat
X-WR-TIMEZONE:Europe/Madrid
DESCRIPTION:Anima't i representa a Llinars a les grans finals.

URI:https://www.llinarsdelvalles.cat/actualitat/agenda/torneig-de-futboli-classificatori-per-al-torneig-multi-espais-joves.html
CLASS:PUBLIC
END:VEVENT
END:VCALENDAR
