BEGIN:VCALENDAR
VERSION:2.0
CALSCALE:GREGORIAN
PRODID:-//Diputació de Barcelona//DibaCMS//EN
BEGIN:VEVENT
UID:56071
DTSTAMP:20260421T205619
DTSTART:20220401T173000
DTEND:20220401T173000
SUMMARY:Hora del conte - La Galleda d'en Billy
LOCATION:
METHOD:PUBLISH
X-WR-CALNAME:info@llinarsdelvalles.cat
X-WR-TIMEZONE:Europe/Madrid
DESCRIPTION:A la Biblioteca Can Casas.
A càrrec de Laura Asensio.

URI:https://www.llinarsdelvalles.cat/actualitat/agenda/hora-del-conte-la-galleda-den-billy.html
CLASS:PUBLIC
END:VEVENT
END:VCALENDAR
