BEGIN:VCALENDAR
VERSION:2.0
CALSCALE:GREGORIAN
PRODID:-//Diputació de Barcelona//DibaCMS//EN
BEGIN:VEVENT
UID:56074
DTSTAMP:20260421T221906
DTSTART:20220404T000000
DTEND:20220404T000000
SUMMARY:Presentació Km0 del llibre Abrazos de hiel y miel
LOCATION:Av. Pau Casals, 26 08450 Llinars del Vallès
METHOD:PUBLISH
X-WR-CALNAME:info@llinarsdelvalles.cat
X-WR-TIMEZONE:Europe/Madrid
DESCRIPTION:
URI:https://www.llinarsdelvalles.cat/actualitat/agenda/56074-presentacio-km0-del-llibre-abrazos-de-hiel-y-miel.html
CLASS:PUBLIC
END:VEVENT
END:VCALENDAR
