BEGIN:VCALENDAR
VERSION:2.0
CALSCALE:GREGORIAN
PRODID:-//Diputació de Barcelona//DibaCMS//EN
BEGIN:VEVENT
UID:56079
DTSTAMP:20260421T205721
DTSTART:20220428T180000
DTEND:20220428T180000
SUMMARY:Taller juvenil - Tècniques d'estudi actives 3r i 4t d'ESO
LOCATION:Av. Pau Casals, 26 08450 Llinars del Vallès
METHOD:PUBLISH
X-WR-CALNAME:info@llinarsdelvalles.cat
X-WR-TIMEZONE:Europe/Madrid
DESCRIPTION:A càrrec d'Aina Guardi, de l'Espai Espiga. A la Biblioteca Can Casas.

URI:https://www.llinarsdelvalles.cat/actualitat/agenda/taller-juvenil-tecniques-destudi-actives-3r-i-4t-deso.html
CLASS:PUBLIC
END:VEVENT
END:VCALENDAR
