BEGIN:VCALENDAR
VERSION:2.0
CALSCALE:GREGORIAN
PRODID:-//Diputació de Barcelona//DibaCMS//EN
BEGIN:VEVENT
UID:56085
DTSTAMP:20260421T221021
DTSTART:20220422T200000
DTEND:20220422T200000
SUMMARY:Teatre familiar - Camí de l'escola
LOCATION:
METHOD:PUBLISH
X-WR-CALNAME:info@llinarsdelvalles.cat
X-WR-TIMEZONE:Europe/Madrid
DESCRIPTION:Al TA de Llinars. Compra d'entrades aquí.

URI:https://www.llinarsdelvalles.cat/actualitat/agenda/teatre-familiar-cami-de-lescola.html
CLASS:PUBLIC
END:VEVENT
END:VCALENDAR
