BEGIN:VCALENDAR
VERSION:2.0
CALSCALE:GREGORIAN
PRODID:-//Diputació de Barcelona//DibaCMS//EN
BEGIN:VEVENT
UID:56100
DTSTAMP:20260421T231913
DTSTART:20220507T193000
DTEND:20220507T193000
SUMMARY:Caminada nocturna primaveral
LOCATION:
METHOD:PUBLISH
X-WR-CALNAME:info@llinarsdelvalles.cat
X-WR-TIMEZONE:Europe/Madrid
DESCRIPTION:Organitza: Els Linxs del Centre Excursionista Llinars

URI:https://www.llinarsdelvalles.cat/actualitat/agenda/caminada-nocturna-primaveral.html
CLASS:PUBLIC
END:VEVENT
END:VCALENDAR
