BEGIN:VCALENDAR
VERSION:2.0
CALSCALE:GREGORIAN
PRODID:-//Diputació de Barcelona//DibaCMS//EN
BEGIN:VEVENT
UID:56102
DTSTAMP:20260421T231949
DTSTART:20220508T080000
DTEND:20220508T080000
SUMMARY:IV Trobada de cotxes clàssics 
LOCATION:
METHOD:PUBLISH
X-WR-CALNAME:info@llinarsdelvalles.cat
X-WR-TIMEZONE:Europe/Madrid
DESCRIPTION:Inscripcions de 8 a 9 h als Camps de l'Illa.

URI:https://www.llinarsdelvalles.cat/actualitat/agenda/iv-trobada-de-cotxes-classics-.html
CLASS:PUBLIC
END:VEVENT
END:VCALENDAR
