BEGIN:VCALENDAR
VERSION:2.0
CALSCALE:GREGORIAN
PRODID:-//Diputació de Barcelona//DibaCMS//EN
BEGIN:VEVENT
UID:56103
DTSTAMP:20260422T005751
DTSTART:20220508T180000
DTEND:20220508T180000
SUMMARY:Dansa Futbol - La Partida
LOCATION:
METHOD:PUBLISH
X-WR-CALNAME:info@llinarsdelvalles.cat
X-WR-TIMEZONE:Europe/Madrid
DESCRIPTION:Què passaria si un equip de futbolistes tingués com a rivals una companyia de ballarines?

URI:https://www.llinarsdelvalles.cat/actualitat/agenda/dansa-futbol-la-partida.html
CLASS:PUBLIC
END:VEVENT
END:VCALENDAR
