BEGIN:VCALENDAR
VERSION:2.0
CALSCALE:GREGORIAN
PRODID:-//Diputació de Barcelona//DibaCMS//EN
BEGIN:VEVENT
UID:56129
DTSTAMP:20260421T232058
DTSTART:20220502T150000
DTEND:20220531T200000
SUMMARY:Exposició a la Biblioteca Can Casas
LOCATION:Av. Pau Casals, 26 08450 Llinars del Vallès
METHOD:PUBLISH
X-WR-CALNAME:info@llinarsdelvalles.cat
X-WR-TIMEZONE:Europe/Madrid
DESCRIPTION:Visca la Revolució! 
Elaborada pel Consell Català del Llibre Infantil i Juvenil

URI:https://www.llinarsdelvalles.cat/actualitat/agenda/exposicio-a-la-biblioteca-can-casas.html
CLASS:PUBLIC
END:VEVENT
END:VCALENDAR
