BEGIN:VCALENDAR
VERSION:2.0
CALSCALE:GREGORIAN
PRODID:-//Diputació de Barcelona//DibaCMS//EN
BEGIN:VEVENT
UID:56143
DTSTAMP:20260421T221004
DTSTART:20220515T113000
DTEND:20220515T113000
SUMMARY:Ballada de l'Esbart Dansaire de Llinars i colles convidades
LOCATION:A la plaça dels Països Catalans 
METHOD:PUBLISH
X-WR-CALNAME:info@llinarsdelvalles.cat
X-WR-TIMEZONE:Europe/Madrid
DESCRIPTION:30a Trobada de colles.

URI:https://www.llinarsdelvalles.cat/actualitat/agenda/ballada-de-lesbart-dansaire-de-llinars-i-colles-convidades.html
CLASS:PUBLIC
END:VEVENT
END:VCALENDAR
