BEGIN:VCALENDAR
VERSION:2.0
CALSCALE:GREGORIAN
PRODID:-//Diputació de Barcelona//DibaCMS//EN
BEGIN:VEVENT
UID:56159
DTSTAMP:20260421T205812
DTSTART:20220516T000000
DTEND:20220516T000000
SUMMARY:Xerrada a Can Lletres
LOCATION:C/ Josep Argila, 39 08450 Llinars del Vallés
METHOD:PUBLISH
X-WR-CALNAME:info@llinarsdelvalles.cat
X-WR-TIMEZONE:Europe/Madrid
DESCRIPTION:Prevenció del càncer de mama amb el Dr. Melcior Sentís.

URI:https://www.llinarsdelvalles.cat/actualitat/agenda/56159-xerrada-a-can-lletres.html
CLASS:PUBLIC
END:VEVENT
END:VCALENDAR
