BEGIN:VCALENDAR
VERSION:2.0
CALSCALE:GREGORIAN
PRODID:-//Diputació de Barcelona//DibaCMS//EN
BEGIN:VEVENT
UID:56167
DTSTAMP:20260421T193929
DTSTART:20220528T090000
DTEND:20220528T140000
SUMMARY:Robotseny 2022
LOCATION:Rectoria Vella de Sant Celoni
Parc de la Rectoria Vella s/n 
METHOD:PUBLISH
X-WR-CALNAME:info@llinarsdelvalles.cat
X-WR-TIMEZONE:Europe/Madrid
DESCRIPTION:Organitzat pels ajuntaments del Baix Montseny, escoles del Baix Montseny i el Centre de Recursos Pedagògics de Sant Celoni.
 

URI:https://www.llinarsdelvalles.cat/actualitat/agenda/robotseny-2022.html
CLASS:PUBLIC
END:VEVENT
END:VCALENDAR
