BEGIN:VCALENDAR
VERSION:2.0
CALSCALE:GREGORIAN
PRODID:-//Diputació de Barcelona//DibaCMS//EN
BEGIN:VEVENT
UID:56186
DTSTAMP:20260421T193756
DTSTART:20220604T110000
DTEND:20220604T110000
SUMMARY:HORA MENUDA Història d'un jardí
LOCATION:Av. Pau Casals, 26 08450 Llinars del Vallès
METHOD:PUBLISH
X-WR-CALNAME:info@llinarsdelvalles.cat
X-WR-TIMEZONE:Europe/Madrid
DESCRIPTION:A càrrec d'Eva Gonàlez.

URI:https://www.llinarsdelvalles.cat/actualitat/agenda/hora-menuda-historia-dun-jardi.html
CLASS:PUBLIC
END:VEVENT
END:VCALENDAR
