BEGIN:VCALENDAR
VERSION:2.0
CALSCALE:GREGORIAN
PRODID:-//Diputació de Barcelona//DibaCMS//EN
BEGIN:VEVENT
UID:56189
DTSTAMP:20260421T182144
DTSTART:20220610T173000
DTEND:20220610T173000
SUMMARY:TALLER INFANTIL Bombolles quadrades
LOCATION:Av. Pau Casals, 26 08450 Llinars del Vallès
METHOD:PUBLISH
X-WR-CALNAME:info@llinarsdelvalles.cat
X-WR-TIMEZONE:Europe/Madrid
DESCRIPTION:A càrrec d'Escuelab.

URI:https://www.llinarsdelvalles.cat/actualitat/agenda/taller-infantil-bombolles-quadrades.html
CLASS:PUBLIC
END:VEVENT
END:VCALENDAR
