BEGIN:VCALENDAR
VERSION:2.0
CALSCALE:GREGORIAN
PRODID:-//Diputació de Barcelona//DibaCMS//EN
BEGIN:VEVENT
UID:56193
DTSTAMP:20260421T205842
DTSTART:20220617T163000
DTEND:20220617T203000
SUMMARY:Cloenda dels tallers de La Masoveria
LOCATION:Av. Mas Bagà, 26 08450 Llinars del Vallès
METHOD:PUBLISH
X-WR-CALNAME:info@llinarsdelvalles.cat
X-WR-TIMEZONE:Europe/Madrid
DESCRIPTION:
URI:https://www.llinarsdelvalles.cat/actualitat/agenda/cloenda-dels-tallers-de-la-masoveria.html
CLASS:PUBLIC
END:VEVENT
END:VCALENDAR
