BEGIN:VCALENDAR
VERSION:2.0
CALSCALE:GREGORIAN
PRODID:-//Diputació de Barcelona//DibaCMS//EN
BEGIN:VEVENT
UID:56194
DTSTAMP:20260421T221314
DTSTART:20220618T200000
DTEND:20220618T200000
SUMMARY:Nit de swing amb Dj Rafa
LOCATION:
METHOD:PUBLISH
X-WR-CALNAME:info@llinarsdelvalles.cat
X-WR-TIMEZONE:Europe/Madrid
DESCRIPTION:
URI:https://www.llinarsdelvalles.cat/actualitat/agenda/nit-de-swing-amb-dj-rafa.html
CLASS:PUBLIC
END:VEVENT
END:VCALENDAR
