BEGIN:VCALENDAR
VERSION:2.0
CALSCALE:GREGORIAN
PRODID:-//Diputació de Barcelona//DibaCMS//EN
BEGIN:VEVENT
UID:56195
DTSTAMP:20260421T181558
DTSTART:20220619T200000
DTEND:20220619T200000
SUMMARY:Ballada de Sardanes
LOCATION:08450 Llinars del Vallès
METHOD:PUBLISH
X-WR-CALNAME:info@llinarsdelvalles.cat
X-WR-TIMEZONE:Europe/Madrid
DESCRIPTION:A càrrec de la Cobla Principal del Llobregat.

URI:https://www.llinarsdelvalles.cat/actualitat/agenda/56195-ballada-de-sardanes.html
CLASS:PUBLIC
END:VEVENT
END:VCALENDAR
