BEGIN:VCALENDAR
VERSION:2.0
CALSCALE:GREGORIAN
PRODID:-//Diputació de Barcelona//DibaCMS//EN
BEGIN:VEVENT
UID:56199
DTSTAMP:20260421T181412
DTSTART:20220628T173000
DTEND:20220628T173000
SUMMARY:TALLER INFANTIL “Arriba l’estiu“
LOCATION:Av. Pau Casals, 26 08450 Llinars del Vallès
METHOD:PUBLISH
X-WR-CALNAME:info@llinarsdelvalles.cat
X-WR-TIMEZONE:Europe/Madrid
DESCRIPTION:A càrrec de l'equip de la Biblioteca.

URI:https://www.llinarsdelvalles.cat/actualitat/agenda/taller-infantil-arriba-lestiu.html
CLASS:PUBLIC
END:VEVENT
END:VCALENDAR
