BEGIN:VCALENDAR
VERSION:2.0
CALSCALE:GREGORIAN
PRODID:-//Diputació de Barcelona//DibaCMS//EN
BEGIN:VEVENT
UID:56211
DTSTAMP:20260421T181433
DTSTART:20220701T170000
DTEND:20220701T170000
SUMMARY:Open Night
LOCATION:
METHOD:PUBLISH
X-WR-CALNAME:info@llinarsdelvalles.cat
X-WR-TIMEZONE:Europe/Madrid
DESCRIPTION:Tornem als 80's
Celebra la vuitena edició de l’Open Night, un esdeveniment que promou el comerç de proximitat, el sector gastronòmic, la cultura, l’esport i el lleure.
 

URI:https://www.llinarsdelvalles.cat/actualitat/agenda/56211-open-night.html
CLASS:PUBLIC
END:VEVENT
END:VCALENDAR
