BEGIN:VCALENDAR
VERSION:2.0
CALSCALE:GREGORIAN
PRODID:-//Diputació de Barcelona//DibaCMS//EN
BEGIN:VEVENT
UID:56213
DTSTAMP:20260421T181541
DTSTART:20220701T200000
DTEND:20220701T200000
SUMMARY:Entrenament funcional amb Retraining
LOCATION:Retraining
C/ Farmàcia, 22 (Llinars Park) 
METHOD:PUBLISH
X-WR-CALNAME:info@llinarsdelvalles.cat
X-WR-TIMEZONE:Europe/Madrid
DESCRIPTION:Activa't a l'estiu.
Open Night.

URI:https://www.llinarsdelvalles.cat/actualitat/agenda/entrenament-funcional-amb-retraining.html
CLASS:PUBLIC
END:VEVENT
END:VCALENDAR
