BEGIN:VCALENDAR
VERSION:2.0
CALSCALE:GREGORIAN
PRODID:-//Diputació de Barcelona//DibaCMS//EN
BEGIN:VEVENT
UID:56220
DTSTAMP:20260421T182430
DTSTART:20220618T100000
DTEND:20220911T200000
SUMMARY:Piscina de Sant Josep
LOCATION:C/ de la Petanca
Zona residencial Sant Josep
08450 Llinars del Vallès. 
METHOD:PUBLISH
X-WR-CALNAME:info@llinarsdelvalles.cat
X-WR-TIMEZONE:Europe/Madrid
DESCRIPTION:50% de descompte residents a Llinars. Oferta en tiquets de dia, no en abonaments.

URI:https://www.llinarsdelvalles.cat/actualitat/agenda/piscina-de-sant-josep.html
CLASS:PUBLIC
END:VEVENT
END:VCALENDAR
