BEGIN:VCALENDAR
VERSION:2.0
CALSCALE:GREGORIAN
PRODID:-//Diputació de Barcelona//DibaCMS//EN
BEGIN:VEVENT
UID:56229
DTSTAMP:20260421T193715
DTSTART:20220625T110000
DTEND:20220703T163000
SUMMARY:II Torneig Internacional d'escacs i Llinars Weekend Chess
LOCATION:
METHOD:PUBLISH
X-WR-CALNAME:info@llinarsdelvalles.cat
X-WR-TIMEZONE:Europe/Madrid
DESCRIPTION:Dintre del II Torneig Internacional d'escacs, que es celebrarà del 25 de juny al 3 de juliol al Teatre Auditori, tindrà lloc la Llinars Weekend Chess amb activitats obertes a tothom:

Dissabte, 25 juny:
11 a 13 h - Simultànies d'escacs obertes a tothom a la Pineda del Castell Nou
18.30 a 20 h - Fent femenins els escacs: documental "La Dama dels Escacs" + taula rodona + pica pica al Teatre Auditori.

Diumenge, 26 de juny: 
10 h - I International Chess Blitz Open i ràpides d'escacs per aficionats al Teatre Auditori.
Inscripcions el mateix diumenge fins les 9.30 h
Més info al whatsapp 644 722 997
i a www.escacsllinars.cat

URI:https://www.llinarsdelvalles.cat/actualitat/agenda/ii-torneig-internacional-descacs-i-llinars-weekend-chess.html
CLASS:PUBLIC
END:VEVENT
END:VCALENDAR
