BEGIN:VCALENDAR
VERSION:2.0
CALSCALE:GREGORIAN
PRODID:-//Diputació de Barcelona//DibaCMS//EN
BEGIN:VEVENT
UID:56234
DTSTAMP:20260421T200724
DTSTART:20220715T220000
DTEND:20220715T220000
SUMMARY:Judit Neddermann i Vernat
LOCATION:08450 Llinars del Vallès
METHOD:PUBLISH
X-WR-CALNAME:info@llinarsdelvalles.cat
X-WR-TIMEZONE:Europe/Madrid
DESCRIPTION:Cicle de concerts i copes al Castell Nou 2022.

URI:https://www.llinarsdelvalles.cat/actualitat/agenda/judit-neddermann-i-vernat.html
CLASS:PUBLIC
END:VEVENT
END:VCALENDAR
