BEGIN:VCALENDAR
VERSION:2.0
CALSCALE:GREGORIAN
PRODID:-//Diputació de Barcelona//DibaCMS//EN
BEGIN:VEVENT
UID:56235
DTSTAMP:20260421T172147
DTSTART:20220722T220000
DTEND:20220722T220000
SUMMARY:La Dolce Vita - Swing Italià
LOCATION:08450 Llinars del Vallès
METHOD:PUBLISH
X-WR-CALNAME:info@llinarsdelvalles.cat
X-WR-TIMEZONE:Europe/Madrid
DESCRIPTION:Cicle de concerts i copes al Castell Nou.

URI:https://www.llinarsdelvalles.cat/actualitat/agenda/la-dolce-vita-swing-italia.html
CLASS:PUBLIC
END:VEVENT
END:VCALENDAR
