BEGIN:VCALENDAR
VERSION:2.0
CALSCALE:GREGORIAN
PRODID:-//Diputació de Barcelona//DibaCMS//EN
BEGIN:VEVENT
UID:56238
DTSTAMP:20260421T181510
DTSTART:20220629T080000
DTEND:20220629T200000
SUMMARY:El Síndic a Llinars
LOCATION:
METHOD:PUBLISH
X-WR-CALNAME:info@llinarsdelvalles.cat
X-WR-TIMEZONE:Europe/Madrid
DESCRIPTION:El Síndic de Greuges de Catalunya serà a Llinars del Vallès.
Atendran les persones presencialment a Can Lletres o telemàticament (trucada o videoconferència).

URI:https://www.llinarsdelvalles.cat/actualitat/agenda/el-sindic-a-llinars.html
CLASS:PUBLIC
END:VEVENT
END:VCALENDAR
