BEGIN:VCALENDAR
VERSION:2.0
CALSCALE:GREGORIAN
PRODID:-//Diputació de Barcelona//DibaCMS//EN
BEGIN:VEVENT
UID:56252
DTSTAMP:20260421T171034
DTSTART:20220712T170000
DTEND:20220712T170000
SUMMARY:Taller robòtica Km0 "Coneix la robòtica educativa amb lego"
LOCATION:Av. Pau Casals, 26 08450 Llinars del Vallès
METHOD:PUBLISH
X-WR-CALNAME:info@llinarsdelvalles.cat
X-WR-TIMEZONE:Europe/Madrid
DESCRIPTION:A càrrec de l'equip llinassenc Leglàctics.

URI:https://www.llinarsdelvalles.cat/actualitat/agenda/taller-robotica-km0-coneix-la-robotica-educativa-amb-lego.html
CLASS:PUBLIC
END:VEVENT
END:VCALENDAR
