BEGIN:VCALENDAR
VERSION:2.0
CALSCALE:GREGORIAN
PRODID:-//Diputació de Barcelona//DibaCMS//EN
BEGIN:VEVENT
UID:56264
DTSTAMP:20260421T172249
DTSTART:20220717T180000
DTEND:20220717T180000
SUMMARY:Festa de l'escuma amb 3/4 de 15
LOCATION:
METHOD:PUBLISH
X-WR-CALNAME:info@llinarsdelvalles.cat
X-WR-TIMEZONE:Europe/Madrid
DESCRIPTION:"Escuma a tres bandes"
Al Parc dels Corbera

URI:https://www.llinarsdelvalles.cat/actualitat/agenda/festa-de-lescuma-amb-34-de-15.html
CLASS:PUBLIC
END:VEVENT
END:VCALENDAR
