BEGIN:VCALENDAR
VERSION:2.0
CALSCALE:GREGORIAN
PRODID:-//Diputació de Barcelona//DibaCMS//EN
BEGIN:VEVENT
UID:56267
DTSTAMP:20260421T170934
DTSTART:20220704T150000
DTEND:20220727T200000
SUMMARY:EXPOSICIÓ "Sorprèn-te! El valor de l'entusiasme"
LOCATION:
METHOD:PUBLISH
X-WR-CALNAME:info@llinarsdelvalles.cat
X-WR-TIMEZONE:Europe/Madrid
DESCRIPTION:
URI:https://www.llinarsdelvalles.cat/actualitat/agenda/exposicio-sorpren-te-el-valor-de-lentusiasme.html
CLASS:PUBLIC
END:VEVENT
END:VCALENDAR
