BEGIN:VCALENDAR
VERSION:2.0
CALSCALE:GREGORIAN
PRODID:-//Diputació de Barcelona//DibaCMS//EN
BEGIN:VEVENT
UID:56271
DTSTAMP:20260421T170421
DTSTART:20220705T190000
DTEND:20220705T190000
SUMMARY:Presentació del conte "Paz, Fuerza y Alegría"
LOCATION:Av. Pau Casals, 26 08450 Llinars del Vallès
METHOD:PUBLISH
X-WR-CALNAME:info@llinarsdelvalles.cat
X-WR-TIMEZONE:Europe/Madrid
DESCRIPTION:A càrrec del seu autor Enrique Collado Rueda.

URI:https://www.llinarsdelvalles.cat/actualitat/agenda/presentacio-del-conte-paz-fuerza-y-alegria.html
CLASS:PUBLIC
END:VEVENT
END:VCALENDAR
