BEGIN:VCALENDAR
VERSION:2.0
CALSCALE:GREGORIAN
PRODID:-//Diputació de Barcelona//DibaCMS//EN
BEGIN:VEVENT
UID:56279
DTSTAMP:20260421T172014
DTSTART:20220724T180000
DTEND:20220724T180000
SUMMARY:Espectacle de titelles
LOCATION:08450 Llinars del Vallès
METHOD:PUBLISH
X-WR-CALNAME:info@llinarsdelvalles.cat
X-WR-TIMEZONE:Europe/Madrid
DESCRIPTION:"Circ-cabaret Armando Rissotto" amb Txo Titelles.

URI:https://www.llinarsdelvalles.cat/actualitat/agenda/espectacle-de-titelles.html
CLASS:PUBLIC
END:VEVENT
END:VCALENDAR
