BEGIN:VCALENDAR
VERSION:2.0
CALSCALE:GREGORIAN
PRODID:-//Diputació de Barcelona//DibaCMS//EN
BEGIN:VEVENT
UID:56315
DTSTAMP:20260421T160406
DTSTART:20220925T083000
DTEND:20220925T083000
SUMMARY:Sortida de dones al museu de Les Trementinaires
LOCATION:
METHOD:PUBLISH
X-WR-CALNAME:info@llinarsdelvalles.cat
X-WR-TIMEZONE:Europe/Madrid
DESCRIPTION:A Tuixent (Lleida). Podeu escollir entre dos dies - 24 i 25 de setembre 

URI:https://www.llinarsdelvalles.cat/actualitat/agenda/56315-sortida-de-dones-al-museu-de-les-trementinaires.html
CLASS:PUBLIC
END:VEVENT
END:VCALENDAR
