BEGIN:VCALENDAR
VERSION:2.0
CALSCALE:GREGORIAN
PRODID:-//Diputació de Barcelona//DibaCMS//EN
BEGIN:VEVENT
UID:56338
DTSTAMP:20260421T155813
DTSTART:20220922T200000
DTEND:20220922T200000
SUMMARY:Conferència de la Penya Barcelonista
LOCATION:Av. Pau Casals, 26 08450 Llinars del Vallès
METHOD:PUBLISH
X-WR-CALNAME:info@llinarsdelvalles.cat
X-WR-TIMEZONE:Europe/Madrid
DESCRIPTION:A la Biblioteca, en motiu del seu 25è aniversari.

URI:https://www.llinarsdelvalles.cat/actualitat/agenda/conferencia-de-la-penya-barcelonista.html
CLASS:PUBLIC
END:VEVENT
END:VCALENDAR
