BEGIN:VCALENDAR
VERSION:2.0
CALSCALE:GREGORIAN
PRODID:-//Diputació de Barcelona//DibaCMS//EN
BEGIN:VEVENT
UID:56341
DTSTAMP:20260421T160624
DTSTART:20220923T190000
DTEND:20220923T190000
SUMMARY:No et jubilis del sexe
LOCATION:C/ Josep Argila, 39 08450 Llinars del Vallés
METHOD:PUBLISH
X-WR-CALNAME:info@llinarsdelvalles.cat
X-WR-TIMEZONE:Europe/Madrid
DESCRIPTION:Xerrada a càrrec de l'Associació Dones de Llinars.

URI:https://www.llinarsdelvalles.cat/actualitat/agenda/no-et-jubilis-del-sexe.html
CLASS:PUBLIC
END:VEVENT
END:VCALENDAR
