BEGIN:VCALENDAR
VERSION:2.0
CALSCALE:GREGORIAN
PRODID:-//Diputació de Barcelona//DibaCMS//EN
BEGIN:VEVENT
UID:56343
DTSTAMP:20260421T155554
DTSTART:20220925T120000
DTEND:20220925T120000
SUMMARY:KL'AA
LOCATION:
METHOD:PUBLISH
X-WR-CALNAME:info@llinarsdelvalles.cat
X-WR-TIMEZONE:Europe/Madrid
DESCRIPTION:Espectacle familiar al Teatre Auditori.

URI:https://www.llinarsdelvalles.cat/actualitat/agenda/klaa.html
CLASS:PUBLIC
END:VEVENT
END:VCALENDAR
