BEGIN:VCALENDAR
VERSION:2.0
CALSCALE:GREGORIAN
PRODID:-//Diputació de Barcelona//DibaCMS//EN
BEGIN:VEVENT
UID:56345
DTSTAMP:20260421T172307
DTSTART:20221001T200000
DTEND:20221001T200000
SUMMARY:Un marit ideal de Catarsi Teatre
LOCATION:Ronda Sant Antoni, 19 08450 Llinars del Vallès
METHOD:PUBLISH
X-WR-CALNAME:info@llinarsdelvalles.cat
X-WR-TIMEZONE:Europe/Madrid
DESCRIPTION:Teatre al TA.

URI:https://www.llinarsdelvalles.cat/actualitat/agenda/un-marit-ideal-de-catarsi-teatre.html
CLASS:PUBLIC
END:VEVENT
END:VCALENDAR
