BEGIN:VCALENDAR
VERSION:2.0
CALSCALE:GREGORIAN
PRODID:-//Diputació de Barcelona//DibaCMS//EN
BEGIN:VEVENT
UID:56346
DTSTAMP:20260421T155609
DTSTART:20221015T200000
DTEND:20221015T200000
SUMMARY:El diablo cojuelo
LOCATION:Ronda Sant Antoni, 19 08450 Llinars del Vallès
METHOD:PUBLISH
X-WR-CALNAME:info@llinarsdelvalles.cat
X-WR-TIMEZONE:Europe/Madrid
DESCRIPTION:Teatre - clown al TA

URI:https://www.llinarsdelvalles.cat/actualitat/agenda/el-diablo-cojuelo.html
CLASS:PUBLIC
END:VEVENT
END:VCALENDAR
