BEGIN:VCALENDAR
VERSION:2.0
CALSCALE:GREGORIAN
PRODID:-//Diputació de Barcelona//DibaCMS//EN
BEGIN:VEVENT
UID:56353
DTSTAMP:20260421T143243
DTSTART:20221001T000000
DTEND:20221002T000000
SUMMARY:Montseny Circuit Art
LOCATION:
METHOD:PUBLISH
X-WR-CALNAME:info@llinarsdelvalles.cat
X-WR-TIMEZONE:Europe/Madrid
DESCRIPTION:No et perdis l’experiència de redescobrir aquesta terra des d’una nova mirada. A Llinars hi trobareu adherits al circuit l'Espai d'Art Llinars i l'Espai d'Art Ruscalleda.
Clica aquí per a més informació.

URI:https://www.llinarsdelvalles.cat/actualitat/agenda/56353-montseny-circuit-art.html
CLASS:PUBLIC
END:VEVENT
END:VCALENDAR
