BEGIN:VCALENDAR
VERSION:2.0
CALSCALE:GREGORIAN
PRODID:-//Diputació de Barcelona//DibaCMS//EN
BEGIN:VEVENT
UID:56363
DTSTAMP:20260421T160121
DTSTART:20221003T000000
DTEND:20221029T000000
SUMMARY:Exposició "Camins i paratges dibuixats"
LOCATION:Av. Pau Casals, 26 08450 Llinars del Vallès
METHOD:PUBLISH
X-WR-CALNAME:info@llinarsdelvalles.cat
X-WR-TIMEZONE:Europe/Madrid
DESCRIPTION:Aquarel·les de Manel Morral i Agustí.

URI:https://www.llinarsdelvalles.cat/actualitat/agenda/exposicio-camins-i-paratges-dibuixats.html
CLASS:PUBLIC
END:VEVENT
END:VCALENDAR
