BEGIN:VCALENDAR
VERSION:2.0
CALSCALE:GREGORIAN
PRODID:-//Diputació de Barcelona//DibaCMS//EN
BEGIN:VEVENT
UID:56364
DTSTAMP:20260421T155726
DTSTART:20221007T173000
DTEND:20221007T173000
SUMMARY:Hora del conte "M'amigues?"
LOCATION:Av. Pau Casals, 26 08450 Llinars del Vallès
METHOD:PUBLISH
X-WR-CALNAME:info@llinarsdelvalles.cat
X-WR-TIMEZONE:Europe/Madrid
DESCRIPTION:A càrrec de Núria Alonso. Espectacle basat en contes sobre l'amistat.

URI:https://www.llinarsdelvalles.cat/actualitat/agenda/hora-del-conte-mamigues.html
CLASS:PUBLIC
END:VEVENT
END:VCALENDAR
