BEGIN:VCALENDAR
VERSION:2.0
CALSCALE:GREGORIAN
PRODID:-//Diputació de Barcelona//DibaCMS//EN
BEGIN:VEVENT
UID:56367
DTSTAMP:20260421T143719
DTSTART:20221001T103000
DTEND:20221001T123000
SUMMARY:Taller adults - Jornades mundials per la noviolència i la reconciliació
LOCATION:Av. Pau Casals, 26 08450 Llinars del Vallès
METHOD:PUBLISH
X-WR-CALNAME:info@llinarsdelvalles.cat
X-WR-TIMEZONE:Europe/Madrid
DESCRIPTION:A càrrec de Clara Palacios i Núria Bonada.

URI:https://www.llinarsdelvalles.cat/actualitat/agenda/taller-adults-jornades-mundials-per-la-noviolencia-i-la-reconciliacio.html
CLASS:PUBLIC
END:VEVENT
END:VCALENDAR
