BEGIN:VCALENDAR
VERSION:2.0
CALSCALE:GREGORIAN
PRODID:-//Diputació de Barcelona//DibaCMS//EN
BEGIN:VEVENT
UID:56374
DTSTAMP:20260421T143322
DTSTART:20221022T103000
DTEND:20221022T123000
SUMMARY:Sortida fotogràfica al Parc Montnegre Corredor
LOCATION:Av. Pau Casals, 26 08450 Llinars del Vallès
METHOD:PUBLISH
X-WR-CALNAME:info@llinarsdelvalles.cat
X-WR-TIMEZONE:Europe/Madrid
DESCRIPTION:A càrrec de Mariano Pagès.
Dintre del projecte Parcs i biblioteques... naturalment!

URI:https://www.llinarsdelvalles.cat/actualitat/agenda/sortida-fotografica-al-parc-montnegre-corredor.html
CLASS:PUBLIC
END:VEVENT
END:VCALENDAR
