BEGIN:VCALENDAR
VERSION:2.0
CALSCALE:GREGORIAN
PRODID:-//Diputació de Barcelona//DibaCMS//EN
BEGIN:VEVENT
UID:56377
DTSTAMP:20260421T160556
DTSTART:20221009T180000
DTEND:20221009T180000
SUMMARY:Viatge sonor amb bols tibetans
LOCATION:Capella de Mas Bagà.
Av. Mas Bagà, 24. 
METHOD:PUBLISH
X-WR-CALNAME:info@llinarsdelvalles.cat
X-WR-TIMEZONE:Europe/Madrid
DESCRIPTION:Organitzat per Moulanima.

URI:https://www.llinarsdelvalles.cat/actualitat/agenda/viatge-sonor-amb-bols-tibetans.html
CLASS:PUBLIC
END:VEVENT
END:VCALENDAR
