BEGIN:VCALENDAR
VERSION:2.0
CALSCALE:GREGORIAN
PRODID:-//Diputació de Barcelona//DibaCMS//EN
BEGIN:VEVENT
UID:56378
DTSTAMP:20260421T143312
DTSTART:20221007T200000
DTEND:20221007T200000
SUMMARY:Xerrada "Els solcs d'una trajectòria"
LOCATION:C/ Frederic Marés (antic CAP) 08450 Llinars del Vallès
METHOD:PUBLISH
X-WR-CALNAME:info@llinarsdelvalles.cat
X-WR-TIMEZONE:Europe/Madrid
DESCRIPTION:A càrrec de l'escriptora i videoartista Ester Xargay, sobre l'artista Jordi Aligué, que actualment està exposant a l'Espai d'Art Llinars, sota el títol "De la Terra i del Mar".

URI:https://www.llinarsdelvalles.cat/actualitat/agenda/xerrada-els-solcs-duna-trajectoria.html
CLASS:PUBLIC
END:VEVENT
END:VCALENDAR
