BEGIN:VCALENDAR
VERSION:2.0
CALSCALE:GREGORIAN
PRODID:-//Diputació de Barcelona//DibaCMS//EN
BEGIN:VEVENT
UID:56381
DTSTAMP:20260421T155748
DTSTART:20221014T200000
DTEND:20221014T200000
SUMMARY:Tribut a Tina Turner
LOCATION:
METHOD:PUBLISH
X-WR-CALNAME:info@llinarsdelvalles.cat
X-WR-TIMEZONE:Europe/Madrid
DESCRIPTION:A la plaça Santa Maria.

URI:https://www.llinarsdelvalles.cat/actualitat/agenda/tribut-a-tina-turner.html
CLASS:PUBLIC
END:VEVENT
END:VCALENDAR
